BEGIN:VCALENDAR
VERSION:2.0
PRODID:DPCALENDAR
CALSCALE:GREGORIAN
BEGIN:VTIMEZONE
TZID:Europe/Copenhagen
BEGIN:STANDARD
DTSTART:20251026T010000
TZOFFSETFROM:+0200
TZOFFSETTO:+0100
TZNAME:CET
END:STANDARD
BEGIN:STANDARD
DTSTART:20261025T010000
TZOFFSETFROM:+0200
TZOFFSETTO:+0100
TZNAME:CET
END:STANDARD
BEGIN:DAYLIGHT
DTSTART:20260329T010000
TZOFFSETFROM:+0100
TZOFFSETTO:+0200
TZNAME:CEST
END:DAYLIGHT
END:VTIMEZONE
X-WR-TIMEZONE:Europe/Copenhagen
BEGIN:VEVENT
DTSTART;TZID=Europe/Copenhagen:20190605T140000
DTEND;TZID=Europe/Copenhagen:20190605T150000
UID:2F198EE3-19E4-4C2B-8703-1CCD3EDF0F9C
SUMMARY:Kagekonkurrence 
CREATED:20190603T130726Z
DTSTAMP:20190603T130726Z
DESCRIPTION:Hvem kan bage Grejs´ bedste kage? Sidste år blev der afholdt kagekonkurrence ved byfesten og det gør vi igen i år.Igen er det GLUK (Grejs-Lindved Ungdomsklub) som står for kagekonkurrencen. Hvis du mener, at du kan bage den bedste kage i Grejs, og har lyst til at vinde et ”kagekursus” hos Vannilla i Vejle, så mød op i byfestteltet på pladsen onsdag d. 5. juni kl. 14.00 med kagen og så vil dommerpanelet (børn fra GLUK og Anne Mette Ramsgaard Johansen) bedømme kagerne.  Efter dysten kan alle købe et stykke kage og kaffe.
X-ALT-DESC;FMTTYPE=text/html:<p>Hvem kan bage Grejs´ bedste kage?<br /> <br />Sidste år blev der afholdt kagekonkurrence ved byfesten og det gør vi igen i år.<br />Igen er det GLUK (Grejs-Lindved Ungdomsklub) som står for kagekonkurrencen. <br />Hvis du mener, at du kan bage den bedste kage i Grejs, og har lyst til at vinde et ”kagekursus” hos Vannilla i Vejle, så mød op i byfestteltet på pladsen onsdag d. 5. juni kl. 14.00 med kagen og så vil dommerpanelet (børn fra GLUK og Anne Mette Ramsgaard Johansen) bedømme kagerne. <br /> Efter dysten kan alle købe et stykke kage og kaffe.</p>
LAST-MODIFIED:20190605T073532Z
SEQUENCE:152886
URL:https://www.grejs.dk/component/dpcalendar/event/218?calid=36
X-ACCESS:1
X-HITS:385
X-COLOR:3366cc
X-IMAGE-INTRO:https://www.grejs.dk/images/2019/Kagekonkurrence.jpg
X-SHOW-END-TIME:1
END:VEVENT
BEGIN:VEVENT
DTSTART;TZID=Europe/Copenhagen:20250301T080000
DTEND;TZID=Europe/Copenhagen:20250301T160000
UID:AC3024D7-7385-4449-8946-78242C68FE44
SUMMARY:Arbejdsdag i Grejs Ungdomsklub !
CREATED:20250130T224757Z
DTSTAMP:20250130T224757Z
DESCRIPTION:Vi inviterer hele byen til arbejdsdag lørdag den 1. marts, hvor vi sammen skal male, gøre rent og klargøre lokalerne. Jo flere vi er, desto bedre bliver resultatet!\NVi har brug for jer!
X-ALT-DESC;FMTTYPE=text/html:<div class="html-div xdj266r x11i5rnm x1mh8g0r xexx8yu x4uap5 x18d9i69 xkhd6sd x1e56ztr"><span style="font-size: 18pt;"><span class="x193iq5w xeuugli x13faqbe x1vvkbs x1xmvt09 x6prxxf xvq8zen xo1l8bm xzsf02u">Vi inviterer hele byen til arbejdsdag <span class="html-span xdj266r x11i5rnm xat24cr x1mh8g0r xexx8yu x4uap5 x18d9i69 xkhd6sd x1hl2dhg x16tdsg8 x1vvkbs"><strong class="html-strong xdj266r x11i5rnm xat24cr x1mh8g0r xexx8yu x4uap5 x18d9i69 xkhd6sd x1hl2dhg x16tdsg8 x1vvkbs x1s688f">lørdag den 1. marts</strong></span>, </span><span class="x193iq5w xeuugli x13faqbe x1vvkbs x1xmvt09 x6prxxf xvq8zen xo1l8bm xzsf02u">hvor vi sammen skal male, gøre rent og klargøre lokalerne. Jo flere vi er, desto bedre bliver resultatet!</span></span></div><div class="html-div xdj266r x11i5rnm x1mh8g0r xexx8yu x4uap5 x18d9i69 xkhd6sd x1e56ztr"><span style="font-size: 18pt;"><strong class="html-strong xdj266r x11i5rnm xat24cr x1mh8g0r xexx8yu x4uap5 x18d9i69 xkhd6sd x1hl2dhg x16tdsg8 x1vvkbs x1s688f">Vi har brug for jer!</strong></span></div>
LAST-MODIFIED:20250130T225059Z
SEQUENCE:182
URL:https://www.grejs.dk/component/dpcalendar/event/1480?calid=36
X-ACCESS:1
X-HITS:240
X-COLOR:3366cc
X-SHOW-END-TIME:1
END:VEVENT
END:VCALENDAR